BEGIN:VCALENDAR
VERSION:2.0
PRODID:-//Backdrop Views Ical Export
METHOD:PUBLISH
X-WR-CALNAME;VALUE=TEXT:Morris Ring event
BEGIN:VEVENT
UID:events.1685.field_eventdate.0@themorrisring.org
DTSTAMP:20260421T141401Z
SUMMARY:Celebrating 100 years of Morris Dancing in Ripley - Ring
  Meeting 374
DTSTART:20250913T090000Z
DTEND:20250913T090001Z
DESCRIPTION:\n\n
      Celebrating 100 years of Morris Dancing in Ripley\n\n
  \n\n
  \n\n
      In 2025 Ripley Morris in partnership with Ripley Green
  Garters will mark the 100th anniversary of the first recorded
  instance of morris dancing in Ripley which took place in 1925.
  Morris dancing in Ripley evolved from the Ripley Folk Dance
  club formed in 1925.\n\n
      A Day of Dance will take place in Ripley on Saturday 13th
  September 2025. The day will be run on JMO lines and
   designated as a Morris Ring Meeting with sides dancing around
  the town. There will be plenty of opportunities for refreshment
  during the day with sides catering for their own needs. The
  event is being officially opened by the Mayor of Ripley and
  John Tams.  at around 10.30 am and close around 5.00pm after a
  dance display by all teams on the market place in Ripley.\n\n
      Ripley Morris and Ripley Green Garters look forward to
  welcoming you all to a cracking Day of Dance on 13th September
  2025.\n\n
       \n\n
  \n\n
  \n\n
      Ripley Morris and Ripley Green Garters are delighted that
  so many sides from The Morris Ring\, Morris Federation and Open
  Morris have expressed interest in attending their Day of Dance
  on Saturday 13th September 2025 to mark the centenary of the
  start of Morris dancing in Ripley. These positive responses
  have greatly helped our planning process.\n\n
  \n\n
  \n\n
      Any sides who think they may have missed the deadline for
  applications to join the day should not feel distressed. We
  still have some places available. Registrations to join the day
  remain open.\n\n
  \n\n
  \n\n
      Please contact Ripley Morris at ripleymorris [at]
  hotmail.com with the subject Ripley 100 for further information
  and to register your side's attendance.\n\n
  \n\n
  \n\n
     
  _____________________________________________________________________________________________________________________\n\n
  \n\n
  \n\n
      Ripley Morris and Ripley Green Garters look forward to
  hearing from you and welcoming you all to a cracking Day of
  Dance on 13th September 2025.\n\n
  \n\n
  \n\n
      Cheers\n\n
      Mick Buckley – former everything.\n\n
      Bob Pick - Foreman Ripley Morris\n\n
      Ronda Sims - Ripley Green Garters\n\n
LAST-MODIFIED:20250812T173844Z
CREATED:20250812T173548Z
END:VEVENT
END:VCALENDAR